BEGIN:VCALENDAR
VERSION:2.0
PRODID:-//FECOTEME - ECPv6.15.13//NONSGML v1.0//EN
CALSCALE:GREGORIAN
METHOD:PUBLISH
X-ORIGINAL-URL:https://fecoteme.com
X-WR-CALDESC:Eventos para FECOTEME
REFRESH-INTERVAL;VALUE=DURATION:PT1H
X-Robots-Tag:noindex
X-PUBLISHED-TTL:PT1H
BEGIN:VTIMEZONE
TZID:America/Costa_Rica
BEGIN:STANDARD
TZOFFSETFROM:-0600
TZOFFSETTO:-0600
TZNAME:CST
DTSTART:20240101T000000
END:STANDARD
END:VTIMEZONE
BEGIN:VEVENT
DTSTART;VALUE=DATE:20250921
DTEND;VALUE=DATE:20250922
DTSTAMP:20260422T235243
CREATED:20250123T170753Z
LAST-MODIFIED:20250123T170753Z
UID:13500-1758412800-1758499199@fecoteme.com
SUMMARY:4to Ranking Nacional Mayor
DESCRIPTION:Fecha Inicial: 21 de setiembre 2025\nFecha Fin: 21 de setiembre 2025\nSede: Sala Nacional (Parque de la Paz)
URL:https://fecoteme.com/eventos/4to-ranking-nacional-mayor/
END:VEVENT
BEGIN:VEVENT
DTSTART;VALUE=DATE:20250920
DTEND;VALUE=DATE:20250921
DTSTAMP:20260422T235243
CREATED:20250123T170710Z
LAST-MODIFIED:20250123T170710Z
UID:13498-1758326400-1758412799@fecoteme.com
SUMMARY:4to Ranking Nacional de Veteranos
DESCRIPTION:Fecha Inicial: 20 de setiembre 2025\nFecha Fin: 20 de setiembre 2025\nSede: Sala Nacional (Parque de la Paz)
URL:https://fecoteme.com/eventos/4to-ranking-nacional-de-veteranos/
END:VEVENT
BEGIN:VEVENT
DTSTART;VALUE=DATE:20250920
DTEND;VALUE=DATE:20250921
DTSTAMP:20260422T235243
CREATED:20250123T170634Z
LAST-MODIFIED:20250123T170634Z
UID:13496-1758326400-1758412799@fecoteme.com
SUMMARY:4to Ranking Nacional PTT
DESCRIPTION:Fecha Inicial: 20 de setiembre 2025\nFecha Fin: 20 de setiembre 2025\nSede: Sala Nacional (Parque de la Paz)
URL:https://fecoteme.com/eventos/4to-ranking-nacional-ptt/
END:VEVENT
BEGIN:VEVENT
DTSTART;VALUE=DATE:20250920
DTEND;VALUE=DATE:20250921
DTSTAMP:20260422T235243
CREATED:20250123T170542Z
LAST-MODIFIED:20250123T170609Z
UID:13494-1758326400-1758412799@fecoteme.com
SUMMARY:4to Ranking Nacional Femenino
DESCRIPTION:Fecha Inicial: 20 de setiembre 2025\nFecha Fin: 20 de setiembre 2025\nSede: Sala Nacional (Parque de la Paz)
URL:https://fecoteme.com/eventos/4to-ranking-nacional-femenino/
END:VEVENT
BEGIN:VEVENT
DTSTART;VALUE=DATE:20250912
DTEND;VALUE=DATE:20250916
DTSTAMP:20260422T235243
CREATED:20250123T170026Z
LAST-MODIFIED:20250123T170026Z
UID:13490-1757635200-1757980799@fecoteme.com
SUMMARY:Campeonato Centroamericano Master
DESCRIPTION:Fecha Inicial: 12 de setiembre 2025\nFecha Fin: 15 de setiembre 2025\nSede: Guatemala
URL:https://fecoteme.com/eventos/campeonato-centroamericano-master/
END:VEVENT
BEGIN:VEVENT
DTSTART;VALUE=DATE:20250831
DTEND;VALUE=DATE:20250908
DTSTAMP:20260422T235243
CREATED:20250123T165906Z
LAST-MODIFIED:20250123T170111Z
UID:13488-1756598400-1757289599@fecoteme.com
SUMMARY:Campeonato Panamericano U15 - U19
DESCRIPTION:Fecha Inicial: 31 de agosto 2025\nFecha Fin: 07 de setiembre 2025\nSede: Cancún\, México
URL:https://fecoteme.com/eventos/campeonato-panamericano-u15-u19/
END:VEVENT
BEGIN:VEVENT
DTSTART;VALUE=DATE:20250816
DTEND;VALUE=DATE:20250822
DTSTAMP:20260422T235243
CREATED:20250123T165807Z
LAST-MODIFIED:20250123T170226Z
UID:13486-1755302400-1755820799@fecoteme.com
SUMMARY:Juegos Centroamericanos (Ciclo Olímpico)
DESCRIPTION:Fecha Inicial: 16 de agosto 2025\nFecha Fin: 21 de agosto 2025\nSede: Guatemala
URL:https://fecoteme.com/eventos/juegos-centroamericanos-ciclo-olimpico/
END:VEVENT
BEGIN:VEVENT
DTSTART;VALUE=DATE:20250801
DTEND;VALUE=DATE:20250807
DTSTAMP:20260422T235243
CREATED:20250123T165531Z
LAST-MODIFIED:20250123T165531Z
UID:13480-1754006400-1754524799@fecoteme.com
SUMMARY:Campeonato Centroamericano U11 - U13
DESCRIPTION:Fecha Inicial: 01 de agosto 2025\nFecha Fin: 06 de agosto 2025\nSede: Sala Nacional (Parque de la Paz)
URL:https://fecoteme.com/eventos/campeonato-centroamericano-u11-u13/
END:VEVENT
BEGIN:VEVENT
DTSTART;TZID=America/Costa_Rica:20250714T080000
DTEND;TZID=America/Costa_Rica:20250714T170000
DTSTAMP:20260422T235243
CREATED:20250123T165301Z
LAST-MODIFIED:20250123T172729Z
UID:13475-1752480000-1752512400@fecoteme.com
SUMMARY:Torneo Por Equipos (Fecha por Definir)
DESCRIPTION:Fecha Inicial: Por Definir\nFecha Fin: Por Definir\nSede: Sala Nacional (Parque de la Paz)
URL:https://fecoteme.com/eventos/torneo-por-equipos/
END:VEVENT
BEGIN:VEVENT
DTSTART;TZID=America/Costa_Rica:20250714T080000
DTEND;TZID=America/Costa_Rica:20250714T170000
DTSTAMP:20260422T235243
CREATED:20250123T165042Z
LAST-MODIFIED:20250123T172654Z
UID:13473-1752480000-1752512400@fecoteme.com
SUMMARY:Eliminatoria JDN (PTT) (Fecha por Definir)
DESCRIPTION:Fecha Inicial: Por Definir\nFecha Fin: Por Definir\nSede: Sala Nacional (Parque de la Paz)
URL:https://fecoteme.com/eventos/eliminatoria-jdn-ptt/
END:VEVENT
BEGIN:VEVENT
DTSTART;VALUE=DATE:20250713
DTEND;VALUE=DATE:20250714
DTSTAMP:20260422T235243
CREATED:20250123T164806Z
LAST-MODIFIED:20250123T164806Z
UID:13471-1752364800-1752451199@fecoteme.com
SUMMARY:Eliminatoria JDN (U19)
DESCRIPTION:Fecha Inicial: 13 de julio 2025\nFecha Fin: 13 de julio 2025\nSede: Sala Nacional (Parque de la Paz)
URL:https://fecoteme.com/eventos/eliminatoria-jdn-u19/
END:VEVENT
BEGIN:VEVENT
DTSTART;VALUE=DATE:20250712
DTEND;VALUE=DATE:20250713
DTSTAMP:20260422T235243
CREATED:20250123T164646Z
LAST-MODIFIED:20250123T164646Z
UID:13469-1752278400-1752364799@fecoteme.com
SUMMARY:Eliminatoria JDN (U15)
DESCRIPTION:Fecha Inicial: 12 de julio 2025\nFecha Fin: 12 de julio 2025\nSede: Sala Nacional (Parque de la Paz)
URL:https://fecoteme.com/eventos/eliminatoria-jdn-u15/
END:VEVENT
BEGIN:VEVENT
DTSTART;VALUE=DATE:20250706
DTEND;VALUE=DATE:20250707
DTSTAMP:20260422T235243
CREATED:20250123T164600Z
LAST-MODIFIED:20250515T155359Z
UID:13467-1751760000-1751846399@fecoteme.com
SUMMARY:Eliminatoria JDN (U13)
DESCRIPTION:Fecha Inicial: 06 de julio 2025\nFecha Fin: 06 de julio 2025\nSede: Sala Nacional (Parque de la Paz)
URL:https://fecoteme.com/eventos/eliminatoria-jdn-u11-2/
END:VEVENT
BEGIN:VEVENT
DTSTART;VALUE=DATE:20250705
DTEND;VALUE=DATE:20250706
DTSTAMP:20260422T235243
CREATED:20250123T164504Z
LAST-MODIFIED:20250123T164504Z
UID:13465-1751673600-1751759999@fecoteme.com
SUMMARY:Eliminatoria JDN (U11)
DESCRIPTION:Fecha Inicial: 05 de julio 2025\nFecha Fin: 05 de julio 2025\nSede: Sala Nacional (Parque de la Paz)
URL:https://fecoteme.com/eventos/eliminatoria-jdn-u11/
END:VEVENT
BEGIN:VEVENT
DTSTART;VALUE=DATE:20250622
DTEND;VALUE=DATE:20250623
DTSTAMP:20260422T235243
CREATED:20250123T172503Z
LAST-MODIFIED:20250123T172527Z
UID:13525-1750550400-1750636799@fecoteme.com
SUMMARY:3er Ranking Nacional Mayor
DESCRIPTION:Fecha Inicial: 22 de junio 2025\nFecha Fin: 22 de junio 2025\nSede: Sala Nacional (Parque de la Paz)
URL:https://fecoteme.com/eventos/3er-ranking-nacional-mayor/
END:VEVENT
BEGIN:VEVENT
DTSTART;VALUE=DATE:20250621
DTEND;VALUE=DATE:20250622
DTSTAMP:20260422T235243
CREATED:20250123T164410Z
LAST-MODIFIED:20250123T164410Z
UID:13463-1750464000-1750550399@fecoteme.com
SUMMARY:3er Ranking Nacional de Veteranos
DESCRIPTION:Fecha Inicial: 21 de junio 2025\nFecha Fin: 21 de junio 2025\nSede: Sala Nacional (Parque de la Paz)
URL:https://fecoteme.com/eventos/3er-ranking-nacional-de-veteranos/
END:VEVENT
BEGIN:VEVENT
DTSTART;VALUE=DATE:20250621
DTEND;VALUE=DATE:20250622
DTSTAMP:20260422T235243
CREATED:20250123T164338Z
LAST-MODIFIED:20250123T164338Z
UID:13461-1750464000-1750550399@fecoteme.com
SUMMARY:3er Ranking Nacional PTT
DESCRIPTION:Fecha Inicial: 21 de junio 2025\nFecha Fin: 21 de junio 2025\nSede: Sala Nacional (Parque de la Paz)
URL:https://fecoteme.com/eventos/3er-ranking-nacional-ptt/
END:VEVENT
BEGIN:VEVENT
DTSTART;VALUE=DATE:20250621
DTEND;VALUE=DATE:20250622
DTSTAMP:20260422T235243
CREATED:20250123T164257Z
LAST-MODIFIED:20250123T172249Z
UID:13459-1750464000-1750550399@fecoteme.com
SUMMARY:3er Ranking Nacional Femenino
DESCRIPTION:Fecha Inicial: 21 de junio 2025\nFecha Fin: 21 de junio 2025\nSede: Sala Nacional (Parque de la Paz)
URL:https://fecoteme.com/eventos/3er-ranking-nacional-femeninofecha-inicial-21-de-junio-2025-fecha-fin-21-de-junio-2025-sede-sala-nacional-parque-de-la-paz/
END:VEVENT
BEGIN:VEVENT
DTSTART;VALUE=DATE:20250601
DTEND;VALUE=DATE:20250602
DTSTAMP:20260422T235243
CREATED:20250123T164157Z
LAST-MODIFIED:20250420T202325Z
UID:13457-1748736000-1748822399@fecoteme.com
SUMMARY:3er Ranking Nacional de Menores (U15- U19)
DESCRIPTION:Fecha Inicial: 01 de junio 2025\nFecha Fin: 01 de junio 2025\nSede: Sala Nacional (Parque de la Paz)
URL:https://fecoteme.com/eventos/3er-ranking-nacional-de-menores-u15-u19/
END:VEVENT
BEGIN:VEVENT
DTSTART;VALUE=DATE:20250601
DTEND;VALUE=DATE:20250602
DTSTAMP:20260422T235243
CREATED:20240523T033851Z
LAST-MODIFIED:20250424T024640Z
UID:12491-1748736000-1748822399@fecoteme.com
SUMMARY:3er Ranking Nacional Liga Menor Categorías U-15 y U-19
DESCRIPTION:Fecha: 01 de Junio 2025 categoría U15 y U20\, Hora de Inicio 9:am
URL:https://fecoteme.com/eventos/3er-ranking-nacional-liga-menor/
LOCATION:San Carlos\, Barrio el Carmen 300m Norte del Hospital San Carlos\, Quesada\, Alajuela\, Costa Rica
ORGANIZER;CN="ASTEME":MAILTO:asotenisancarlos@gmail.com
END:VEVENT
BEGIN:VEVENT
DTSTART;VALUE=DATE:20250531
DTEND;VALUE=DATE:20250601
DTSTAMP:20260422T235243
CREATED:20250123T164107Z
LAST-MODIFIED:20250424T024840Z
UID:13455-1748649600-1748735999@fecoteme.com
SUMMARY:3er Ranking Nacional de Menor Categorías U9 - U11 y U13
DESCRIPTION:Fecha Inicial: 31 de mayo 2025\nFecha Fin: 31 de mayo 2025\nSede: Sala Nacional (Parque de la Paz)
URL:https://fecoteme.com/eventos/3er-ranking-nacional-de-menores-u9-u11-u13/
END:VEVENT
BEGIN:VEVENT
DTSTART;TZID=America/Costa_Rica:20250511T080000
DTEND;TZID=America/Costa_Rica:20250511T170000
DTSTAMP:20260422T235243
CREATED:20250123T163903Z
LAST-MODIFIED:20250420T202056Z
UID:13451-1746950400-1746982800@fecoteme.com
SUMMARY:2do Ranking Nacional Mayor
DESCRIPTION:Fecha Inicial: 11 de mayo 2025\nFecha Fin: 11 de mayo 2025\nSede: Sala Nacional (Parque de la Paz)
URL:https://fecoteme.com/eventos/2do-ranking-nacional-mayor/
END:VEVENT
BEGIN:VEVENT
DTSTART;VALUE=DATE:20250510
DTEND;VALUE=DATE:20250511
DTSTAMP:20260422T235243
CREATED:20250123T163826Z
LAST-MODIFIED:20250420T201743Z
UID:13449-1746835200-1746921599@fecoteme.com
SUMMARY:2do Ranking Nacional Master
DESCRIPTION:Fecha Inicial: 10 de mayo 2025\nFecha Fin: 10 de mayo 2025\nSede: Sala Nacional (Parque de la Paz)
URL:https://fecoteme.com/eventos/2do-ranking-nacional-de-veteranos/
END:VEVENT
BEGIN:VEVENT
DTSTART;VALUE=DATE:20250510
DTEND;VALUE=DATE:20250511
DTSTAMP:20260422T235243
CREATED:20250123T163309Z
LAST-MODIFIED:20250420T201304Z
UID:13446-1746835200-1746921599@fecoteme.com
SUMMARY:2do Ranking Nacional PTT
DESCRIPTION:Fecha Inicial: 10 de mayo 2025\nFecha Fin: 10 de mayo 2025\nSede: Sala Nacional (Parque de la Paz)
URL:https://fecoteme.com/eventos/2do-ranking-nacional-ptt/
END:VEVENT
BEGIN:VEVENT
DTSTART;VALUE=DATE:20250510
DTEND;VALUE=DATE:20250511
DTSTAMP:20260422T235243
CREATED:20250123T163219Z
LAST-MODIFIED:20250420T201415Z
UID:13444-1746835200-1746921599@fecoteme.com
SUMMARY:2do Ranking Nacional Femenino
DESCRIPTION:Fecha Inicial: 10 de mayo 2025\nFecha Fin: 10 de mayo 2025\nSede: Sala Nacional (Parque de la Paz)
URL:https://fecoteme.com/eventos/2do-ranking-nacional-femenino/
END:VEVENT
BEGIN:VEVENT
DTSTART;VALUE=DATE:20250501
DTEND;VALUE=DATE:20250507
DTSTAMP:20260422T235243
CREATED:20250123T164013Z
LAST-MODIFIED:20250123T165404Z
UID:13453-1746057600-1746575999@fecoteme.com
SUMMARY:Campeonato Centroamericano U15 - U19
DESCRIPTION:Fecha Inicial: 01 de mayo 2025\nFecha Fin: 06 de mayo 2025\nSede: Cancún\, México
URL:https://fecoteme.com/eventos/campeonato-centroamericano-u15-u19/
END:VEVENT
BEGIN:VEVENT
DTSTART;VALUE=DATE:20250401
DTEND;VALUE=DATE:20250407
DTSTAMP:20260422T235243
CREATED:20250123T160916Z
LAST-MODIFIED:20250123T160916Z
UID:13442-1743465600-1743983999@fecoteme.com
SUMMARY:Campeonato Centroamericano Mayor
DESCRIPTION:Fecha Inicial: 01 de abril 2025\nFecha Fin: 06 de abril 2025\nSede: Sala Nacional (Parque de la Paz)
URL:https://fecoteme.com/eventos/campeonato-centroamericano-mayor/
END:VEVENT
BEGIN:VEVENT
DTSTART;VALUE=DATE:20250323
DTEND;VALUE=DATE:20250324
DTSTAMP:20260422T235243
CREATED:20250123T160359Z
LAST-MODIFIED:20250123T160359Z
UID:13440-1742688000-1742774399@fecoteme.com
SUMMARY:2do Ranking Nacional de Menores (U15- U19)
DESCRIPTION:Fecha Inicial: 23 de marzo 2025\nFecha Fin: 23 de marzo 2025\nSede: Sala Nacional (Parque de la Paz)
URL:https://fecoteme.com/eventos/2do-ranking-nacional-de-menores-u15-u19/
END:VEVENT
BEGIN:VEVENT
DTSTART;VALUE=DATE:20250322
DTEND;VALUE=DATE:20250323
DTSTAMP:20260422T235243
CREATED:20250123T160302Z
LAST-MODIFIED:20250123T160302Z
UID:13438-1742601600-1742687999@fecoteme.com
SUMMARY:2do Ranking Nacional de Menores (U9 - U11 - U13)
DESCRIPTION:Fecha Inicial: 22 de marzo 2025\nFecha Fin: 22 de marzo 2025\nSede: Sala Nacional (Parque de la Paz)
URL:https://fecoteme.com/eventos/2do-ranking-nacional-de-menores-u9-u11-u13/
END:VEVENT
BEGIN:VEVENT
DTSTART;VALUE=DATE:20250223
DTEND;VALUE=DATE:20250224
DTSTAMP:20260422T235243
CREATED:20250123T160045Z
LAST-MODIFIED:20250123T160130Z
UID:13436-1740268800-1740355199@fecoteme.com
SUMMARY:1er Ranking Nacional Mayor
DESCRIPTION:Fecha Inicial: 23 de febrero 2025 \nFecha Fin: 23 de febrero 2025 \nSede: Sala Nacional (Parque de la Paz)
URL:https://fecoteme.com/eventos/1er-ranking-nacional-mayor/
END:VEVENT
END:VCALENDAR