BEGIN:VCALENDAR
VERSION:2.0
PRODID:-//FECOTEME - ECPv6.15.13//NONSGML v1.0//EN
CALSCALE:GREGORIAN
METHOD:PUBLISH
X-ORIGINAL-URL:https://fecoteme.com
X-WR-CALDESC:Eventos para FECOTEME
REFRESH-INTERVAL;VALUE=DURATION:PT1H
X-Robots-Tag:noindex
X-PUBLISHED-TTL:PT1H
BEGIN:VTIMEZONE
TZID:America/Costa_Rica
BEGIN:STANDARD
TZOFFSETFROM:-0600
TZOFFSETTO:-0600
TZNAME:CST
DTSTART:20230101T000000
END:STANDARD
END:VTIMEZONE
BEGIN:VEVENT
DTSTART;VALUE=DATE:20241103
DTEND;VALUE=DATE:20241104
DTSTAMP:20260423T034410
CREATED:20240601T180715Z
LAST-MODIFIED:20241029T171333Z
UID:12609-1730592000-1730678399@fecoteme.com
SUMMARY:V Ranking Nacional
DESCRIPTION:Fecha Inicio: 23 de noviembre 2024 \nFecha Finaliza: 24 de noviembre 2024
URL:https://fecoteme.com/eventos/v-ranking-nacional/
LOCATION:Sala Nacional de Tenis de Mesa\, Pargue de la Paz\, Cascajal\, San José\, Costa Rica
END:VEVENT
BEGIN:VEVENT
DTSTART;VALUE=DATE:20241027
DTEND;VALUE=DATE:20241028
DTSTAMP:20260423T034410
CREATED:20240601T180555Z
LAST-MODIFIED:20240601T180555Z
UID:12607-1729987200-1730073599@fecoteme.com
SUMMARY:V Ranking Menor U15\, U19 Femenino y Masculino
DESCRIPTION:Fecha Inicio: 27 de octubre 2024 \nFecha Finaliza: 27 de octubre 2024
URL:https://fecoteme.com/eventos/v-ranking-menor-u15-u19-femenino-y-masculino/
LOCATION:Sala Nacional de Tenis de Mesa\, Pargue de la Paz\, Cascajal\, San José\, Costa Rica
END:VEVENT
BEGIN:VEVENT
DTSTART;VALUE=DATE:20241026
DTEND;VALUE=DATE:20241027
DTSTAMP:20260423T034410
CREATED:20240601T180414Z
LAST-MODIFIED:20240601T180414Z
UID:12605-1729900800-1729987199@fecoteme.com
SUMMARY:V Ranking Menor U9\, U11\, U13 Femenino y Masculino
DESCRIPTION:Fecha Inicio: 26 de octubre 2024 \nFecha Finaliza: 26 de octubre 2024
URL:https://fecoteme.com/eventos/v-ranking-menor-u9-u11-u13-femenino-y-masculino/
LOCATION:Sala Nacional de Tenis de Mesa\, Pargue de la Paz\, Cascajal\, San José\, Costa Rica
END:VEVENT
BEGIN:VEVENT
DTSTART;VALUE=DATE:20241013
DTEND;VALUE=DATE:20241021
DTSTAMP:20260423T034410
CREATED:20240601T180225Z
LAST-MODIFIED:20240601T180225Z
UID:12603-1728777600-1729468799@fecoteme.com
SUMMARY:Panamericano Mayor 2024
DESCRIPTION:Fecha Inicio: 13 de octubre 2024 \nFecha Finaliza: 20 de octubre 2024
URL:https://fecoteme.com/eventos/panamericano-mayor-2024/
LOCATION:El Salvador\, San Salvador\, San Salvador\, 0603\, El Salvador
END:VEVENT
BEGIN:VEVENT
DTSTART;VALUE=DATE:20241011
DTEND;VALUE=DATE:20241014
DTSTAMP:20260423T034410
CREATED:20240601T180114Z
LAST-MODIFIED:20240601T180114Z
UID:12601-1728604800-1728863999@fecoteme.com
SUMMARY:Copa Tango
DESCRIPTION:Fecha Inicio: 11 de octubre 2024 \nFecha Finaliza: 13 de octubre 2024
URL:https://fecoteme.com/eventos/copa-tango/
LOCATION:Argentina\, Buenos Aires\, Buenos Aires\, B1228\, Argentina
END:VEVENT
BEGIN:VEVENT
DTSTART;VALUE=DATE:20240908
DTEND;VALUE=DATE:20240909
DTSTAMP:20260423T034410
CREATED:20240801T161949Z
LAST-MODIFIED:20240801T162621Z
UID:12904-1725753600-1725839999@fecoteme.com
SUMMARY:4to Ranking Nacional
DESCRIPTION:Fecha Inicio: 08 de setiembre 2024 \nFecha Finaliza: 08 de setiembre 2024
URL:https://fecoteme.com/eventos/4to-ranking-nacional/
LOCATION:Sala Nacional de Tenis de Mesa\, Pargue de la Paz\, Cascajal\, San José\, Costa Rica
END:VEVENT
BEGIN:VEVENT
DTSTART;VALUE=DATE:20240907
DTEND;VALUE=DATE:20240908
DTSTAMP:20260423T034410
CREATED:20240601T175732Z
LAST-MODIFIED:20240601T175814Z
UID:12597-1725667200-1725753599@fecoteme.com
SUMMARY:IV Open Feminino / IV Ranking de Veteranos
DESCRIPTION:Fecha Inicio: 07 de setiembre 2024 \nFecha Finaliza: 07 de setiembre 2024
URL:https://fecoteme.com/eventos/iv-open-feminino-iv-ranking-de-veteranos/
LOCATION:Sala Nacional de Tenis de Mesa\, Pargue de la Paz\, Cascajal\, San José\, Costa Rica
END:VEVENT
BEGIN:VEVENT
DTSTART;VALUE=DATE:20240819
DTEND;VALUE=DATE:20240826
DTSTAMP:20260423T034410
CREATED:20240601T174927Z
LAST-MODIFIED:20240601T174927Z
UID:12589-1724025600-1724630399@fecoteme.com
SUMMARY:Panamericano U11\, U13
DESCRIPTION:Fecha Inicio: 19 de agosto 2024 \nFecha Finalización: 25 de agosto 2024
URL:https://fecoteme.com/eventos/panamericano-u11-u13/
LOCATION:Santo Domingo\, República Dominicana\, Santo Domingo\, Santo Domingo\, 10100\, República Dominicana
END:VEVENT
BEGIN:VEVENT
DTSTART;VALUE=DATE:20240811
DTEND;VALUE=DATE:20240812
DTSTAMP:20260423T034410
CREATED:20240601T174607Z
LAST-MODIFIED:20240725T173304Z
UID:12587-1723334400-1723420799@fecoteme.com
SUMMARY:IV Ranking Menor U15\, U19 Feminino y Masculino
DESCRIPTION:Fecha Inicio: 11 de agosto 2024 \nFecha Finalización : 11 de agosto 2024
URL:https://fecoteme.com/eventos/iv-ranking-menor-u15-u19-feminino-y-masculino/
LOCATION:Polideportivo de Cartago
END:VEVENT
BEGIN:VEVENT
DTSTART;VALUE=DATE:20240810
DTEND;VALUE=DATE:20240811
DTSTAMP:20260423T034410
CREATED:20240601T174415Z
LAST-MODIFIED:20240725T173532Z
UID:12585-1723248000-1723334399@fecoteme.com
SUMMARY:IV Ranking Menor U9\, U11\, U13 Femenino y Masculino
DESCRIPTION:Fecha Inicio: 10 de agosto 2024 \nFecha Finaliza: 10 de agosto 2024
URL:https://fecoteme.com/eventos/iv-ranking-menor-u9-u11-u13-femenino-y-masculino/
LOCATION:Polideportivo de Cartago
END:VEVENT
BEGIN:VEVENT
DTSTART;VALUE=DATE:20240727
DTEND;VALUE=DATE:20240728
DTSTAMP:20260423T034410
CREATED:20240601T174040Z
LAST-MODIFIED:20240601T175212Z
UID:12583-1722038400-1722124799@fecoteme.com
SUMMARY:I Liga Nacional por Equipos
DESCRIPTION:Fecha Inicio: 27 de julio 2024 \nFecha Finaliza: 27 de julio 2024
URL:https://fecoteme.com/eventos/i-liga-nacional-por-equipos/
END:VEVENT
BEGIN:VEVENT
DTSTART;VALUE=DATE:20240718
DTEND;VALUE=DATE:20240724
DTSTAMP:20260423T034410
CREATED:20240601T223420Z
LAST-MODIFIED:20240601T230226Z
UID:12617-1721260800-1721779199@fecoteme.com
SUMMARY:Campeonato Centroamericano U11 y U13
DESCRIPTION:Fecha Inicio: 18 de julio 2024 \nFecha Finaliza: 23 de julio 2024
URL:https://fecoteme.com/eventos/campeonato-centroamericano-u11-y-u13/
LOCATION:Guatemala\, Ciudad de Guatemala\, Ciudad de Guatemala\, 01001\, Guatemala
END:VEVENT
BEGIN:VEVENT
DTSTART;VALUE=DATE:20240707
DTEND;VALUE=DATE:20240715
DTSTAMP:20260423T034410
CREATED:20240601T173858Z
LAST-MODIFIED:20240601T175452Z
UID:12581-1720310400-1721001599@fecoteme.com
SUMMARY:Panamericano U15/U19
DESCRIPTION:Fecha Inicio: 07 de julio 2024 \nFecha Finaliza: 14 de julio 2024
URL:https://fecoteme.com/eventos/panamericano-u15-u19/
LOCATION:Caracas\, Venezuela\, Caracas\, Caracas\, 1000\, Venezuela
END:VEVENT
BEGIN:VEVENT
DTSTART;VALUE=DATE:20240704
DTEND;VALUE=DATE:20240705
DTSTAMP:20260423T034410
CREATED:20240601T170806Z
LAST-MODIFIED:20240603T151822Z
UID:12562-1720051200-1720137599@fecoteme.com
SUMMARY:Juegos Deportivos Nacionales Para Tenis de Mesa
DESCRIPTION:Fecha Inicio: 04 de julio 2024 \nFecha Finaliza: 04 de julio 2024
URL:https://fecoteme.com/eventos/juegos-deportivos-nacionales-convencionales/
LOCATION:La Cruz\, Guanacaste\, Provincia de Guanacaste\, La Cruz\, Barrio Irvin\, 51001\, La Cruz\, Guanacaste\, 51001\, Costa Rica
END:VEVENT
BEGIN:VEVENT
DTSTART;VALUE=DATE:20240703
DTEND;VALUE=DATE:20240713
DTSTAMP:20260423T034410
CREATED:20240601T172956Z
LAST-MODIFIED:20240603T151912Z
UID:12578-1719964800-1720828799@fecoteme.com
SUMMARY:Juegos Deportivos Nacionales Convencionales
DESCRIPTION:Fecha Inicio: 03 de julio 2024 \nFecha Finaliza: 12 de julio 2024
URL:https://fecoteme.com/eventos/juegos-deportivos-nacionales-convencionales-2/
LOCATION:La Cruz\, Guanacaste\, Provincia de Guanacaste\, La Cruz\, Barrio Irvin\, 51001\, La Cruz\, Guanacaste\, 51001\, Costa Rica
END:VEVENT
BEGIN:VEVENT
DTSTART;VALUE=DATE:20240630
DTEND;VALUE=DATE:20240701
DTSTAMP:20260423T034410
CREATED:20240531T204408Z
LAST-MODIFIED:20240601T170354Z
UID:12553-1719705600-1719791999@fecoteme.com
SUMMARY:3cer Ranking Nacional Mayor
DESCRIPTION:Fecha: Domingo 30 de Junio 2024 \nHora: 9:00 a.m.
URL:https://fecoteme.com/eventos/3cer-ranking-nacional-mayor/
LOCATION:Sala Nacional de Tenis de Mesa\, Pargue de la Paz\, Cascajal\, San José\, Costa Rica
END:VEVENT
BEGIN:VEVENT
DTSTART;VALUE=DATE:20240629
DTEND;VALUE=DATE:20240630
DTSTAMP:20260423T034410
CREATED:20240531T203859Z
LAST-MODIFIED:20240601T170414Z
UID:12551-1719619200-1719705599@fecoteme.com
SUMMARY:3cer Open Femenino y Veteranos
DESCRIPTION:Fecha: Sábado 29 de Junio \nHora: 9:00 a.m.
URL:https://fecoteme.com/eventos/3cer-open-femenino/
LOCATION:Sala Nacional de Tenis de Mesa\, Pargue de la Paz\, Cascajal\, San José\, Costa Rica
END:VEVENT
BEGIN:VEVENT
DTSTART;VALUE=DATE:20240620
DTEND;VALUE=DATE:20240626
DTSTAMP:20260423T034410
CREATED:20240601T170309Z
LAST-MODIFIED:20240601T170309Z
UID:12560-1718841600-1719359999@fecoteme.com
SUMMARY:Campeonato Centroamericano U15 y U19
DESCRIPTION:Fecha desde: 20 de Junio 2024\, partiendo hacia Honduras el 19 de Junio 2024 \nFecha Final: 25 de Junio 2024\, regresando el 26 de Junio 2024 \n 
URL:https://fecoteme.com/eventos/campeonato-centroamericano-u15-y-u19/
END:VEVENT
END:VCALENDAR